BEGIN:VCALENDAR
VERSION:2.0
PRODID:-//The American Legion - ECPv6.15.20//NONSGML v1.0//EN
CALSCALE:GREGORIAN
METHOD:PUBLISH
X-ORIGINAL-URL:https://lakelegion.com
X-WR-CALDESC:Events for The American Legion
REFRESH-INTERVAL;VALUE=DURATION:PT1H
X-Robots-Tag:noindex
X-PUBLISHED-TTL:PT1H
BEGIN:VTIMEZONE
TZID:Asia/Tokyo
BEGIN:STANDARD
TZOFFSETFROM:+0900
TZOFFSETTO:+0900
TZNAME:JST
DTSTART:20230101T000000
END:STANDARD
END:VTIMEZONE
BEGIN:VEVENT
DTSTART;TZID=Asia/Tokyo:20240122T080000
DTEND;TZID=Asia/Tokyo:20250122T170000
DTSTAMP:20260425T122229
CREATED:20240122T092511Z
LAST-MODIFIED:20240122T092511Z
UID:1219-1705910400-1737565200@lakelegion.com
SUMMARY:Basic Training from Home
DESCRIPTION:Please check out the link from Nationals for the Basic Training course . This course will allow You to understand what the American Legion is all about . \n  \nhttps://www.legion.org/membership/254637/basic-training-your-home
URL:https://lakelegion.com/calendar/basic-training-from-home/
LOCATION:The American Legion\, 852 American Legion Road\, Sunrise Beach\, MO\, 65079\, United States
ORGANIZER;CN="The American Legion":MAILTO:support@lakelegion.com
END:VEVENT
BEGIN:VEVENT
DTSTART;TZID=Asia/Tokyo:20240609T180000
DTEND;TZID=Asia/Tokyo:20240609T193000
DTSTAMP:20260425T122229
CREATED:20240523T121148Z
LAST-MODIFIED:20240523T134635Z
UID:1279-1717956000-1717961400@lakelegion.com
SUMMARY:Americanism: An overview of the Constitution
DESCRIPTION:The American Legion is hosting an overview of the U.S. Constitution and is open to the Community.  These recorded lectures discuss the creation and original intent of the Constitution with speakers David Barton\, an American historian\, Kirk Cameron plus many others.  Its filmed in Independence Hall.  These lectures are fast moving\, captivating\, and impressive with a lot of historical facts mingled in. \nWe hope you will be able to joins us\, Come when you can; a work book will be offered but not required for a fee;  appetizers will be offered to our guests.  Members can sign up at the from bar.  Non members can call Jane 573-286-8507. \nAmericanism: An overview of the Constitution \nAmerican Legion Post 625 \n852 American Legion Rd. \nSunrise Beach \nWhat: An 8 week course overview of the U.S. Constitution \nWhere: Zack Wheat Post 624\, meeting Hall \nWhen:  Sundays 6 PM to 7:30 PM  \nStarting June 9 thru July 28
URL:https://lakelegion.com/calendar/americanism-an-overview-of-the-constitution/
LOCATION:The American Legion\, 852 American Legion Road\, Sunrise Beach\, MO\, 65079\, United States
END:VEVENT
BEGIN:VEVENT
DTSTART;TZID=Asia/Tokyo:20240615T090000
DTEND;TZID=Asia/Tokyo:20240615T160000
DTSTAMP:20260425T122229
CREATED:20240520T054658Z
LAST-MODIFIED:20240520T054658Z
UID:1269-1718442000-1718467200@lakelegion.com
SUMMARY:GARAGE SALE
DESCRIPTION:
URL:https://lakelegion.com/calendar/garage-sale-2/
LOCATION:The American Legion\, 852 American Legion Road\, Sunrise Beach\, MO\, 65079\, United States
END:VEVENT
END:VCALENDAR