BEGIN:VCALENDAR
VERSION:2.0
PRODID:-//The American Legion - ECPv6.15.20//NONSGML v1.0//EN
CALSCALE:GREGORIAN
METHOD:PUBLISH
X-WR-CALNAME:The American Legion
X-ORIGINAL-URL:https://lakelegion.com
X-WR-CALDESC:Events for The American Legion
REFRESH-INTERVAL;VALUE=DURATION:PT1H
X-Robots-Tag:noindex
X-PUBLISHED-TTL:PT1H
BEGIN:VTIMEZONE
TZID:Asia/Tokyo
BEGIN:STANDARD
TZOFFSETFROM:+0900
TZOFFSETTO:+0900
TZNAME:JST
DTSTART:20220101T000000
END:STANDARD
END:VTIMEZONE
BEGIN:VEVENT
DTSTART;TZID=Asia/Tokyo:20230910T130000
DTEND;TZID=Asia/Tokyo:20230910T140000
DTSTAMP:20260422T174836
CREATED:20230810T144420Z
LAST-MODIFIED:20230810T144420Z
UID:1023-1694350800-1694354400@lakelegion.com
SUMMARY:District 8 Meeting
DESCRIPTION:Eighth District scheduled meetings and events\n​\nThe next District 8 meeting and officer installation will be Sunday\, September 10 2023 at 1 pm at Post 202 in Columbia.  Meal following the meeting and installation \nI hope to see you there.
URL:https://lakelegion.com/calendar/district-8-meeting/
LOCATION:American Legion Post 202 Columbia
END:VEVENT
BEGIN:VEVENT
DTSTART;TZID=Asia/Tokyo:20230822T190000
DTEND;TZID=Asia/Tokyo:20230822T200000
DTSTAMP:20260422T174836
CREATED:20230810T141222Z
LAST-MODIFIED:20230810T141222Z
UID:1019-1692730800-1692734400@lakelegion.com
SUMMARY:Dart League Meeting
DESCRIPTION:Dart League Rules and Sign-up \nNo single dart shall exceed 24 grams (flight\, shaft\, and barrel) or the weight limit set by the machine owner. Darts available at the Legion may be used. \nThe minimum throwing distance shall be 7-feet 9 1/4 inches from the surface of the board to the front of the line\, placed parallel to the board and at least 24-inches in length. The maximum throwing distance is 8-feet. \n301\nThe game starts with players at 301 points. Straight start or any in begins the game. The game ends when a player reaches zero exactly by finishing on a single\, double or triple.  Three darts constitute one turn. The total score of each turn is subtracted from the total score. Exceeding a zero score (busting) ends the turn and requires the player go back to the score he or she had in the turn prior to busting. A bust counts as a full turn (three darts thrown). \nEach match will consist of three games with three players each. Teams should sign up 4-5 teammates to make sure they can field a full team. Each team must have at least one member from the Legion\, Auxiliary\, Legion Riders\, or Sons of the Legion. Any nonmembers must be eligible to join the post. There is a $25 entry fee that needs to be paid when the registration is turned in. Make all checks to Post 624. All fees will be used for awards at the end of the league. \nThe league will start September 12\, 2023 and run every Tuesday night except meeting nights. Times will be set from 6-7\, 7-8 and possibly 8-9 depending on the number of teams. The number of weeks the league will run will be determined once the number of teams has been determined. \nAn organizational meeting will be held August 22\, at 7:00 pm to discuss the rules and make changes as authorized by a vote of the teams; one vote per team. All rosters and entry fees are due at this meeting and each team must have a representative in attendance.
URL:https://lakelegion.com/calendar/dart-league-meeting/
LOCATION:The American Legion\, 852 American Legion Road\, Sunrise Beach\, MO\, 65079\, United States
END:VEVENT
BEGIN:VEVENT
DTSTART;TZID=Asia/Tokyo:20230807T093000
DTEND;TZID=Asia/Tokyo:20230807T103000
DTSTAMP:20260422T174836
CREATED:20230711T141602Z
LAST-MODIFIED:20230806T095645Z
UID:919-1691400600-1691404200@lakelegion.com
SUMMARY:Purple Heart County Ceremony
DESCRIPTION:August 7 is the national “Purple Heart Day \nThe Purple Heart (PH) is a United States military decoration awarded in the name of the President to those wounded or killed while serving\, on or after 5 April 1917\, with the U.S. military. With its forerunner\, the Badge of Military Merit\, which took the form of a heart made of purple cloth\, the Purple Heart is the oldest military award still given to U.S. military members. The National Purple Heart Hall of Honor is located in New Windsor\, New York. \nWe all have seen the “Purple Heart City” signs \, and American Legion Zack Wheat Post 624 has proposed to the Camden County Commissioners to make Camden County a Purple Heart County . The proclamation was accepted and we will have a official Ceremony on August 7th\, 2023  in front of the Camdenton Courthouse at 9:30am . Commissioner Ike Skelton \, James Gohagen and Don Williams will be attending . We will have Master sergeant Sean Ambriz as speaker . Part of the American Legion Honor guard as well as a delegation of our American Legion Riders will also be present. Please attend as this is a great way to honor our Veteran’s and active Duty Military Members that the Purple Heart Day is  meant for.
URL:https://lakelegion.com/calendar/purple-heart-county-ceremony/
LOCATION:Camdenton CourtHouse\, 1 Court Cir NW\, Camdenton\, Missouri\, 65020
ORGANIZER;CN="The American Legion":MAILTO:support@lakelegion.com
END:VEVENT
BEGIN:VEVENT
DTSTART;TZID=Asia/Tokyo:20230730T130000
DTEND;TZID=Asia/Tokyo:20230730T170000
DTSTAMP:20260422T174836
CREATED:20230710T145157Z
LAST-MODIFIED:20230710T145157Z
UID:913-1690722000-1690736400@lakelegion.com
SUMMARY:Celebration of Life
DESCRIPTION:
URL:https://lakelegion.com/calendar/celebration-of-life/
LOCATION:The American Legion\, 852 American Legion Road\, Sunrise Beach\, MO\, 65079\, United States
ORGANIZER;CN="The American Legion":MAILTO:support@lakelegion.com
END:VEVENT
BEGIN:VEVENT
DTSTART;TZID=Asia/Tokyo:20230614T110000
DTEND;TZID=Asia/Tokyo:20230614T120000
DTSTAMP:20260422T174836
CREATED:20230609T142938Z
LAST-MODIFIED:20230609T142938Z
UID:807-1686740400-1686744000@lakelegion.com
SUMMARY:Flag Retirement Ceremony
DESCRIPTION:Flag Day\, also called National Flag Day\, in the United States\, a day honouring the national flag\, observed on June 14. The holiday commemorates the date in 1777 when the United States approved the design for its first national flag. \n\nWhat Is a Flag-Burning Retirement Ceremony?\n\n\nThe thought of intentionally burning an American flag may sound unethical. After all\, the American flag is a symbol of our nation’s values and everything for which it stands\, so it should be treated with the utmost care. There’s even a piece of federal legislation\, known as the U.S. Flag Code\, stating that the American flag should never touch any person\, object or thing below it. While burning the American flag can be considered unethical\, there’s an exception: a flag-burning retirement ceremony. \nOverview of Flag-Burning Retirement Ceremony\nA flag-burning retirement ceremony is an event during which a heavily worn or tattered American flag — or multiple American flags — is disposed of through burning. According to the U.S. Flag Code\, the American flag should be disposed of in a dignified manner. Among the approved methods for disposal is a flag-burning retirement ceremony. By respectfully burning a heavily worn American flag\, you can dispose of it. \nHow a Flag-Burning Retirement Ceremony Works\nBecause they are made of cloth fabrics — cotton\, polyester\, linen\, etc. — American flags can degrade. It typically won’t happen immediately\, but if you fly an American flag in front of your home or business for a prolonged period\, you can expect it to show some form of wear and tear. Assuming your American flag is just stained or blemished\, you might be able to wash it. If washing doesn’t suffice\, though\, you may want to replace it by burning your old American flag and investing it in a new one. \nFlag-burning retirement ceremonies are conducted by individuals as well as organizations. There’s really no universal way to conduct a flag-burning retirement ceremony for disposing of old American flags. Rather\, different people and organizations use different approaches. With that said\, there are a few things you should know if you’re planning to conduct a flag-burning retirement ceremony. First and foremost\, make sure your fire is hot enough to completely incinerate the flag. If it’s not hot\, it may simply scorch the exterior while leaving your flag only partially burned. You should also fold the American flag before placing it in the fire. And as you proceed to place the American flag in the fire\, show respect by saluting. \nSeveral organizations regularly host flag-burning retirement ceremonies\, some of which include the following: \n\nThe American Legion\nBoy Scouts of America\nGirl Scouts of the USA\nThe Veterans of Foreign Wars
URL:https://lakelegion.com/calendar/flag-retirement-ceremony/
LOCATION:The American Legion\, 852 American Legion Road\, Sunrise Beach\, MO\, 65079\, United States
ORGANIZER;CN="The American Legion":MAILTO:support@lakelegion.com
END:VEVENT
BEGIN:VEVENT
DTSTART;TZID=Asia/Tokyo:20230609T090000
DTEND;TZID=Asia/Tokyo:20230609T160000
DTSTAMP:20260422T174836
CREATED:20230515T135747Z
LAST-MODIFIED:20230515T140229Z
UID:738-1686301200-1686326400@lakelegion.com
SUMMARY:Garage Sale
DESCRIPTION:824 American Legion Rd \, Sunrise Beach\nFriday June 9th   from 9 am – 4 pm\nSaturday June 10th from 9 am – 12 noon\nRent tables for $10 each – Proceeds go to Veterans and/or Community support\nCall Betty at 573-216-2305 for more info\nOutside booths available\nKitchen Open for Breakfast & Lunch
URL:https://lakelegion.com/calendar/garage-sale/
LOCATION:The American Legion\, 852 American Legion Road\, Sunrise Beach\, MO\, 65079\, United States
END:VEVENT
BEGIN:VEVENT
DTSTART;TZID=Asia/Tokyo:20230529T080000
DTEND;TZID=Asia/Tokyo:20230529T120000
DTSTAMP:20260422T174836
CREATED:20230515T125952Z
LAST-MODIFIED:20230515T131201Z
UID:733-1685347200-1685361600@lakelegion.com
SUMMARY:MEMORIAL DAY CEREMONY
DESCRIPTION:For Memorial Day we offer Breakfast from 8am to 10:30 followed by the Memorial Ceremony starting at 11am . A Bakesale Fundraiser is also available to purchase delicious home made baked goods . Come to the Legion and show Your Pride and Patriotism for our Countries fallen Hero’s
URL:https://lakelegion.com/calendar/memorial-day-ceremony/
LOCATION:The American Legion\, 852 American Legion Road\, Sunrise Beach\, MO\, 65079\, United States
ORGANIZER;CN="The American Legion":MAILTO:support@lakelegion.com
END:VEVENT
BEGIN:VEVENT
DTSTART;TZID=Asia/Tokyo:20230526T063000
DTEND;TZID=Asia/Tokyo:20230526T210000
DTSTAMP:20260422T174836
CREATED:20230513T131643Z
LAST-MODIFIED:20230513T131643Z
UID:724-1685082600-1685134800@lakelegion.com
SUMMARY:The Lockharts
DESCRIPTION:If You have not heard them yet \, don’t let this chance slip by . Come in on Friday the 26th and enjoy a tasty Shrimp boil Dinner starting at 5pm and first class musical entertainment provided by the Lockhart’s from Texas .\n 
URL:https://lakelegion.com/calendar/the-lockharts/
LOCATION:The American Legion\, 852 American Legion Road\, Sunrise Beach\, MO\, 65079\, United States
ORGANIZER;CN="The American Legion":MAILTO:support@lakelegion.com
END:VEVENT
BEGIN:VEVENT
DTSTART;TZID=Asia/Tokyo:20230520T090000
DTEND;TZID=Asia/Tokyo:20230520T160000
DTSTAMP:20260422T174836
CREATED:20230513T130049Z
LAST-MODIFIED:20230513T130049Z
UID:718-1684573200-1684598400@lakelegion.com
SUMMARY:Third annual Spring Craft Show & Car/Bike Show
DESCRIPTION:Come out and check out the handmade items of our Vendors . Perfect place to find unique presents  . And while “She ” shops \, “He” can check out the Car & Bike show in our parking lot.
URL:https://lakelegion.com/calendar/third-annual-spring-craft-show-car-bike-show/
LOCATION:The American Legion\, 852 American Legion Road\, Sunrise Beach\, MO\, 65079\, United States
ORGANIZER;CN="The American Legion":MAILTO:support@lakelegion.com
END:VEVENT
END:VCALENDAR