BEGIN:VCALENDAR
VERSION:2.0
PRODID:-//The American Legion - ECPv6.15.20//NONSGML v1.0//EN
CALSCALE:GREGORIAN
METHOD:PUBLISH
X-ORIGINAL-URL:https://lakelegion.com
X-WR-CALDESC:Events for The American Legion
REFRESH-INTERVAL;VALUE=DURATION:PT1H
X-Robots-Tag:noindex
X-PUBLISHED-TTL:PT1H
BEGIN:VTIMEZONE
TZID:America/Chicago
BEGIN:DAYLIGHT
TZOFFSETFROM:-0600
TZOFFSETTO:-0500
TZNAME:CDT
DTSTART:20250309T080000
END:DAYLIGHT
BEGIN:STANDARD
TZOFFSETFROM:-0500
TZOFFSETTO:-0600
TZNAME:CST
DTSTART:20251102T070000
END:STANDARD
BEGIN:DAYLIGHT
TZOFFSETFROM:-0600
TZOFFSETTO:-0500
TZNAME:CDT
DTSTART:20260308T080000
END:DAYLIGHT
BEGIN:STANDARD
TZOFFSETFROM:-0500
TZOFFSETTO:-0600
TZNAME:CST
DTSTART:20261101T070000
END:STANDARD
BEGIN:DAYLIGHT
TZOFFSETFROM:-0600
TZOFFSETTO:-0500
TZNAME:CDT
DTSTART:20270314T080000
END:DAYLIGHT
BEGIN:STANDARD
TZOFFSETFROM:-0500
TZOFFSETTO:-0600
TZNAME:CST
DTSTART:20271107T070000
END:STANDARD
END:VTIMEZONE
BEGIN:VEVENT
DTSTART;TZID=America/Chicago:20260314T083000
DTEND;TZID=America/Chicago:20260314T235900
DTSTAMP:20260421T193033
CREATED:20260227T205618Z
LAST-MODIFIED:20260227T205618Z
UID:1517-1773477000-1773532740@lakelegion.com
SUMMARY:Saint Patricks Cruise and Crawl 2026
DESCRIPTION:2026 St. Pats Cruise and Crawl \n 
URL:https://lakelegion.com/calendar/saint-patricks-cruise-and-crawl-2026/
LOCATION:The American Legion\, 852 American Legion Road\, Sunrise Beach\, MO\, 65079\, United States
ORGANIZER;CN="The American Legion":MAILTO:support@lakelegion.com
END:VEVENT
END:VCALENDAR