BEGIN:VCALENDAR
VERSION:2.0
PRODID:-//The American Legion - ECPv6.15.20//NONSGML v1.0//EN
CALSCALE:GREGORIAN
METHOD:PUBLISH
X-ORIGINAL-URL:https://lakelegion.com
X-WR-CALDESC:Events for The American Legion
REFRESH-INTERVAL;VALUE=DURATION:PT1H
X-Robots-Tag:noindex
X-PUBLISHED-TTL:PT1H
BEGIN:VTIMEZONE
TZID:Asia/Tokyo
BEGIN:STANDARD
TZOFFSETFROM:+0900
TZOFFSETTO:+0900
TZNAME:JST
DTSTART:20240101T000000
END:STANDARD
END:VTIMEZONE
BEGIN:VEVENT
DTSTART;TZID=Asia/Tokyo:20250527T080000
DTEND;TZID=Asia/Tokyo:20250527T120000
DTSTAMP:20260422T173935
CREATED:20250519T064337Z
LAST-MODIFIED:20250519T065142Z
UID:1435-1748332800-1748347200@lakelegion.com
SUMMARY:Memorial Day 2025
DESCRIPTION:Memorial Day 2025 \nPlease join us on Monday \, May 26th for the 2025 Memorial Day Breakfast & Bake sale from 8am-10:30am. Our Memorial Day Ceremony  will follow shortly after at 11am .This years ceremony is hosted by the Camdenton High School JRTOC and the American Legion Honor Guard . \n 
URL:https://lakelegion.com/calendar/memorial-day-2025/
LOCATION:The American Legion\, 852 American Legion Road\, Sunrise Beach\, MO\, 65079\, United States
ORGANIZER;CN="The American Legion":MAILTO:support@lakelegion.com
END:VEVENT
END:VCALENDAR