BEGIN:VCALENDAR
VERSION:2.0
PRODID:-//The American Legion - ECPv6.15.20//NONSGML v1.0//EN
CALSCALE:GREGORIAN
METHOD:PUBLISH
X-WR-CALNAME:The American Legion
X-ORIGINAL-URL:https://lakelegion.com
X-WR-CALDESC:Events for The American Legion
REFRESH-INTERVAL;VALUE=DURATION:PT1H
X-Robots-Tag:noindex
X-PUBLISHED-TTL:PT1H
BEGIN:VTIMEZONE
TZID:Asia/Tokyo
BEGIN:STANDARD
TZOFFSETFROM:+0900
TZOFFSETTO:+0900
TZNAME:JST
DTSTART:20240101T000000
END:STANDARD
END:VTIMEZONE
BEGIN:VEVENT
DTSTART;TZID=Asia/Tokyo:20250315T160000
DTEND;TZID=Asia/Tokyo:20250316T000000
DTSTAMP:20260423T061656
CREATED:20250119T174247Z
LAST-MODIFIED:20250217T173615Z
UID:1407-1742054400-1742083200@lakelegion.com
SUMMARY:St.Patricks's Day Pub Crawl 2025
DESCRIPTION:Pub Crawl Flyer 2025 2025 St Pats Raffle Flyer (1) 2025 St Pats Boat Cruise Flyer (1) PubCrawlMap_2025-LWCC (1)                          St. Patrick’s Day Pub Crawl 2025\n  \n  \nWe are excited to announce that the American Legion Post 624 will be participating in the St. Patrick’s Pub Crawl again this year on Saturday\, March 15th. Remember how much fun we had last year!!?? Click on the links for more Info .
URL:https://lakelegion.com/calendar/st-patrickss-day-pub-crawl-2025/
LOCATION:The American Legion\, 852 American Legion Road\, Sunrise Beach\, MO\, 65079\, United States
ORGANIZER;CN="The American Legion":MAILTO:support@lakelegion.com
END:VEVENT
END:VCALENDAR